BEGIN:VCALENDAR
VERSION:2.0
PRODID:-//CIEMSD - ECPv6.15.20//NONSGML v1.0//EN
CALSCALE:GREGORIAN
METHOD:PUBLISH
X-ORIGINAL-URL:https://ciemsd.org
X-WR-CALDESC:Events for CIEMSD
REFRESH-INTERVAL;VALUE=DURATION:PT1H
X-Robots-Tag:noindex
X-PUBLISHED-TTL:PT1H
BEGIN:VTIMEZONE
TZID:America/Chicago
BEGIN:DAYLIGHT
TZOFFSETFROM:-0600
TZOFFSETTO:-0500
TZNAME:CDT
DTSTART:20250309T080000
END:DAYLIGHT
BEGIN:STANDARD
TZOFFSETFROM:-0500
TZOFFSETTO:-0600
TZNAME:CST
DTSTART:20251102T070000
END:STANDARD
BEGIN:DAYLIGHT
TZOFFSETFROM:-0600
TZOFFSETTO:-0500
TZNAME:CDT
DTSTART:20260308T080000
END:DAYLIGHT
BEGIN:STANDARD
TZOFFSETFROM:-0500
TZOFFSETTO:-0600
TZNAME:CST
DTSTART:20261101T070000
END:STANDARD
BEGIN:DAYLIGHT
TZOFFSETFROM:-0600
TZOFFSETTO:-0500
TZNAME:CDT
DTSTART:20270314T080000
END:DAYLIGHT
BEGIN:STANDARD
TZOFFSETFROM:-0500
TZOFFSETTO:-0600
TZNAME:CST
DTSTART:20271107T070000
END:STANDARD
END:VTIMEZONE
BEGIN:VEVENT
DTSTART;VALUE=DATE:20260206
DTEND;VALUE=DATE:20260207
DTSTAMP:20260422T053404
CREATED:20251107T222603Z
LAST-MODIFIED:20251107T224141Z
UID:6488-1770336000-1770422399@ciemsd.org
SUMMARY:Continuing Education Program: Pediatric Emergencies
DESCRIPTION:Continuing Education Program: Pediatric Emergencies \n \n\n6 hours of CEHs available\nPresentations & Hands-on\nEMS Networking/Social opportunity following\n\nTo be held at Polk County Emergency Management \nProgram will include presentations on the latest in assessing & managing pediatric emergencies. \nRegistration Opens in December! \n 
URL:https://ciemsd.org/event/continuing-education-program-pediatric-emergencies/
LOCATION:Polk County Emergency Management\, 1907 Carpenter Avenue\, Des Moines\, IA\, 50314\, United States
END:VEVENT
END:VCALENDAR